BEGIN:VCALENDAR
VERSION:2.0
PRODID:-//wp-events-plugin.com//7.2.3.1//EN
TZID:Europe/Vienna
X-WR-TIMEZONE:Europe/Vienna
BEGIN:VEVENT
UID:1086@gruppe94.at
DTSTART;TZID=Europe/Vienna:20260518T170000
DTEND;TZID=Europe/Vienna:20260518T170000
DTSTAMP:20260327T133846Z
URL:https://www.gruppe94.at/events/trommeln-fuer-alle-23/
SUMMARY:TROMMELN – FÜR ALLE
DESCRIPTION:Trommeln muss man nicht „können“ – einfach nur tun\, ein
 en Rhythmus spüren\, in sich hineinspüren – dem Rhythmus des Gefühls 
 folgen\, und zulassen\, dass es da ist – Wut\, Trauer\, Verzweiflung\, A
 ngst\, Schmerz – zulassen und trommeln – alles hinauslassen – frei l
 assen – loslassen – den Zugang zur Seele finden – zum Unterbewusstse
 in – zum Überbewusstsein – zum Göttlichen – zum Sein – was wir h
 alt so alles suchen mögen.\nOder einfach nur Dahintrommeln – weil es Fr
 eude macht – die Freude fließen lassen – die Lebenslust – bis in ei
 ne Trance – Ekstase – reines Sein.\nSo oder so – oder ganz anders 
 – einfach Sein – Frieden finden – heil werden.\n\nAnna-Maria Steurer
 \n\n\nTermine:\nMontags 18 Uhr: 18.5./15.6.2026\n\n\n Info: 0660 760 98 9
 3\n\n(Info: Anna-Maria 0660 760 98 93)\nFreie Spende\n\n
CATEGORIES:Termine Gruppe 94,Veranstaltungen
LOCATION:Bezirksmuseum\, Klagbaumgasse 4\, Wien\, 1040\, Österreich
X-APPLE-STRUCTURED-LOCATION;VALUE=URI;X-ADDRESS=Klagbaumgasse 4\, Wien\, 10
 40\, Österreich;X-APPLE-RADIUS=100;X-TITLE=Bezirksmuseum:geo:0,0
END:VEVENT
BEGIN:VTIMEZONE
TZID:Europe/Vienna
X-LIC-LOCATION:Europe/Vienna
BEGIN:DAYLIGHT
DTSTART:20260329T030000
TZOFFSETFROM:+0100
TZOFFSETTO:+0200
TZNAME:CEST
END:DAYLIGHT
END:VTIMEZONE
END:VCALENDAR